Package: RLSeq Version: 1.6.0 Command: rm -rf RLSeq.buildbin-libdir && mkdir RLSeq.buildbin-libdir && F:\biocbuild\bbs-3.17-bioc\R\bin\R.exe CMD INSTALL --build --library=RLSeq.buildbin-libdir RLSeq_1.6.0.tar.gz StartedAt: 2023-10-16 09:24:30 -0400 (Mon, 16 Oct 2023) EndedAt: 2023-10-16 09:25:31 -0400 (Mon, 16 Oct 2023) EllapsedTime: 60.7 seconds RetCode: 0 Status: OK PackageFile: RLSeq_1.6.0.zip PackageFileSize: 2.864 MiB