Package: RLMM Version: 1.62.0 Command: /home/biocbuild/bbs-3.17-bioc/R/bin/R CMD build --keep-empty-dirs --no-resave-data RLMM StartedAt: 2023-10-15 18:14:13 -0400 (Sun, 15 Oct 2023) EndedAt: 2023-10-15 18:14:18 -0400 (Sun, 15 Oct 2023) EllapsedTime: 5.3 seconds RetCode: 0 Status: OK PackageFile: RLMM_1.62.0.tar.gz PackageFileSize: 229.7 KiB