Package: RJMCMCNucleosomes Version: 1.24.0 Command: /home/biocbuild/bbs-3.17-bioc/R/bin/R CMD check --install=check:RJMCMCNucleosomes.install-out.txt --library=/home/biocbuild/bbs-3.17-bioc/R/site-library --timings RJMCMCNucleosomes_1.24.0.tar.gz StartedAt: 2023-10-16 00:28:47 -0400 (Mon, 16 Oct 2023) EndedAt: 2023-10-16 00:33:10 -0400 (Mon, 16 Oct 2023) EllapsedTime: 262.3 seconds RetCode: 0 Status: OK CheckDir: RJMCMCNucleosomes.Rcheck Warnings: 0