Package: RJMCMCNucleosomes Version: 1.24.0 Command: rm -rf RJMCMCNucleosomes.buildbin-libdir && mkdir RJMCMCNucleosomes.buildbin-libdir && /Users/biocbuild/BBS/utils/build-universal.sh RJMCMCNucleosomes_1.24.0.tar.gz /Library/Frameworks/R.framework/Resources/bin/R RJMCMCNucleosomes.buildbin-libdir StartedAt: 2023-10-16 10:04:27 -0400 (Mon, 16 Oct 2023) EndedAt: 2023-10-16 10:07:37 -0400 (Mon, 16 Oct 2023) EllapsedTime: 190.0 seconds RetCode: 0 Status: OK PackageFile: RJMCMCNucleosomes_1.24.0.tgz PackageFileSize: 886.3 KiB