Package: RImmPort Version: 1.28.0 Command: F:\biocbuild\bbs-3.17-bioc\R\bin\R.exe CMD check --no-multiarch --install=check:RImmPort.install-out.txt --library=F:\biocbuild\bbs-3.17-bioc\R\library --no-vignettes --timings RImmPort_1.28.0.tar.gz StartedAt: 2023-10-16 06:02:37 -0400 (Mon, 16 Oct 2023) EndedAt: 2023-10-16 06:03:52 -0400 (Mon, 16 Oct 2023) EllapsedTime: 74.6 seconds RetCode: 0 Status: OK CheckDir: RImmPort.Rcheck Warnings: 0