Package: RImmPort Version: 1.28.0 Command: chmod a+r RImmPort -R && F:\biocbuild\bbs-3.17-bioc\R\bin\R.exe CMD build --keep-empty-dirs --no-resave-data RImmPort StartedAt: 2023-10-15 21:49:35 -0400 (Sun, 15 Oct 2023) EndedAt: 2023-10-15 21:50:08 -0400 (Sun, 15 Oct 2023) EllapsedTime: 33.4 seconds RetCode: 0 Status: OK PackageFile: RImmPort_1.28.0.tar.gz PackageFileSize: 2.827 MiB