Package: RImmPort Version: 1.28.0 Command: rm -rf RImmPort.buildbin-libdir && mkdir RImmPort.buildbin-libdir && F:\biocbuild\bbs-3.17-bioc\R\bin\R.exe CMD INSTALL --build --library=RImmPort.buildbin-libdir RImmPort_1.28.0.tar.gz StartedAt: 2023-10-16 09:23:57 -0400 (Mon, 16 Oct 2023) EndedAt: 2023-10-16 09:24:14 -0400 (Mon, 16 Oct 2023) EllapsedTime: 17.6 seconds RetCode: 0 Status: OK PackageFile: RImmPort_1.28.0.zip PackageFileSize: 2.52 MiB