Package: RIVER Version: 1.24.0 Command: chmod a+r RIVER -R && F:\biocbuild\bbs-3.17-bioc\R\bin\R.exe CMD build --keep-empty-dirs --no-resave-data RIVER StartedAt: 2023-10-15 21:50:09 -0400 (Sun, 15 Oct 2023) EndedAt: 2023-10-15 21:50:42 -0400 (Sun, 15 Oct 2023) EllapsedTime: 33.2 seconds RetCode: 0 Status: OK PackageFile: RIVER_1.24.0.tar.gz PackageFileSize: 1.257 MiB