Package: RITAN Version: 1.24.0 Command: chmod a+r RITAN -R && F:\biocbuild\bbs-3.17-bioc\R\bin\R.exe CMD build --keep-empty-dirs --no-resave-data RITAN StartedAt: 2023-10-15 21:49:52 -0400 (Sun, 15 Oct 2023) EndedAt: 2023-10-15 21:51:49 -0400 (Sun, 15 Oct 2023) EllapsedTime: 117.2 seconds RetCode: 0 Status: OK PackageFile: RITAN_1.24.0.tar.gz PackageFileSize: 350.5 KiB