Package: RITAN Version: 1.24.0 Command: /home/biocbuild/bbs-3.17-bioc/R/bin/R CMD build --keep-empty-dirs --no-resave-data RITAN StartedAt: 2023-10-15 18:13:50 -0400 (Sun, 15 Oct 2023) EndedAt: 2023-10-15 18:15:35 -0400 (Sun, 15 Oct 2023) EllapsedTime: 105.3 seconds RetCode: 0 Status: OK PackageFile: RITAN_1.24.0.tar.gz PackageFileSize: 547 KiB