Package: RITAN Version: 1.24.0 Command: /Library/Frameworks/R.framework/Resources/bin/R CMD INSTALL RITAN StartedAt: 2023-10-15 15:35:55 -0400 (Sun, 15 Oct 2023) EndedAt: 2023-10-15 15:38:05 -0400 (Sun, 15 Oct 2023) EllapsedTime: 130.8 seconds RetCode: 0 Status: OK