Package: RITAN Version: 1.24.0 Command: /Library/Frameworks/R.framework/Resources/bin/R CMD check --install=check:RITAN.install-out.txt --library=/Library/Frameworks/R.framework/Resources/library --no-vignettes --timings RITAN_1.24.0.tar.gz StartedAt: 2023-10-16 06:09:14 -0400 (Mon, 16 Oct 2023) EndedAt: 2023-10-16 06:20:42 -0400 (Mon, 16 Oct 2023) EllapsedTime: 688.1 seconds RetCode: 0 Status: WARNINGS CheckDir: RITAN.Rcheck Warnings: 1