Package: RITAN Version: 1.24.0 Command: rm -rf RITAN.buildbin-libdir && mkdir RITAN.buildbin-libdir && /Users/biocbuild/BBS/utils/build-universal.sh RITAN_1.24.0.tar.gz /Library/Frameworks/R.framework/Resources/bin/R RITAN.buildbin-libdir StartedAt: 2023-10-16 10:04:09 -0400 (Mon, 16 Oct 2023) EndedAt: 2023-10-16 10:06:30 -0400 (Mon, 16 Oct 2023) EllapsedTime: 141.1 seconds RetCode: 0 Status: OK PackageFile: RITAN_1.24.0.tgz PackageFileSize: 722.8 KiB