Package: RIPAT Version: 1.10.0 Command: rm -rf RIPAT.buildbin-libdir && mkdir RIPAT.buildbin-libdir && F:\biocbuild\bbs-3.17-bioc\R\bin\R.exe CMD INSTALL --build --library=RIPAT.buildbin-libdir RIPAT_1.10.0.tar.gz StartedAt: 2023-10-16 09:24:04 -0400 (Mon, 16 Oct 2023) EndedAt: 2023-10-16 09:24:12 -0400 (Mon, 16 Oct 2023) EllapsedTime: 8.1 seconds RetCode: 0 Status: OK PackageFile: RIPAT_1.10.0.zip PackageFileSize: 2.549 MiB