Package: RIPAT Version: 1.10.0 Command: /Library/Frameworks/R.framework/Resources/bin/R CMD build --keep-empty-dirs --no-resave-data RIPAT StartedAt: 2023-10-15 20:42:40 -0400 (Sun, 15 Oct 2023) EndedAt: 2023-10-15 21:04:53 -0400 (Sun, 15 Oct 2023) EllapsedTime: 1332.5 seconds RetCode: 0 Status: OK PackageFile: RIPAT_1.10.0.tar.gz PackageFileSize: 4.282 MiB