Package: RGraph2js Version: 1.28.0 Command: /home/biocbuild/bbs-3.17-bioc/R/bin/R CMD build --keep-empty-dirs --no-resave-data RGraph2js StartedAt: 2023-10-15 18:11:28 -0400 (Sun, 15 Oct 2023) EndedAt: 2023-10-15 18:11:37 -0400 (Sun, 15 Oct 2023) EllapsedTime: 9.6 seconds RetCode: 0 Status: OK PackageFile: RGraph2js_1.28.0.tar.gz PackageFileSize: 2.344 MiB