Package: RGraph2js Version: 1.28.0 Command: /Library/Frameworks/R.framework/Resources/bin/R CMD INSTALL RGraph2js StartedAt: 2023-10-15 15:20:10 -0400 (Sun, 15 Oct 2023) EndedAt: 2023-10-15 15:20:27 -0400 (Sun, 15 Oct 2023) EllapsedTime: 17.1 seconds RetCode: 0 Status: OK