Package: RGraph2js Version: 1.28.0 Command: rm -rf RGraph2js.buildbin-libdir && mkdir RGraph2js.buildbin-libdir && /Users/biocbuild/BBS/utils/build-universal.sh RGraph2js_1.28.0.tar.gz /Library/Frameworks/R.framework/Resources/bin/R RGraph2js.buildbin-libdir StartedAt: 2023-10-16 10:02:51 -0400 (Mon, 16 Oct 2023) EndedAt: 2023-10-16 10:03:02 -0400 (Mon, 16 Oct 2023) EllapsedTime: 11.7 seconds RetCode: 0 Status: OK PackageFile: RGraph2js_1.28.0.tgz PackageFileSize: 1.495 MiB