Package: RGMQL Version: 1.20.0 Command: /home/biocbuild/bbs-3.17-bioc/R/bin/R CMD build --keep-empty-dirs --no-resave-data RGMQL StartedAt: 2023-10-15 18:11:21 -0400 (Sun, 15 Oct 2023) EndedAt: 2023-10-15 18:12:29 -0400 (Sun, 15 Oct 2023) EllapsedTime: 68.3 seconds RetCode: 0 Status: OK PackageFile: RGMQL_1.20.0.tar.gz PackageFileSize: 29.39 MiB