Package: REDseq Version: 1.46.0 Command: chmod a+r REDseq -R && F:\biocbuild\bbs-3.17-bioc\R\bin\R.exe CMD build --keep-empty-dirs --no-resave-data REDseq StartedAt: 2023-10-15 21:43:12 -0400 (Sun, 15 Oct 2023) EndedAt: 2023-10-15 21:44:22 -0400 (Sun, 15 Oct 2023) EllapsedTime: 70.1 seconds RetCode: 0 Status: OK PackageFile: REDseq_1.46.0.tar.gz PackageFileSize: 157.7 KiB