Package: REDseq Version: 1.46.0 Command: rm -rf REDseq.buildbin-libdir && mkdir REDseq.buildbin-libdir && F:\biocbuild\bbs-3.17-bioc\R\bin\R.exe CMD INSTALL --build --library=REDseq.buildbin-libdir REDseq_1.46.0.tar.gz StartedAt: 2023-10-16 09:21:50 -0400 (Mon, 16 Oct 2023) EndedAt: 2023-10-16 09:22:40 -0400 (Mon, 16 Oct 2023) EllapsedTime: 50.4 seconds RetCode: 0 Status: OK PackageFile: REDseq_1.46.0.zip PackageFileSize: 216.4 KiB