Package: REDseq Version: 1.46.0 Command: /home/biocbuild/bbs-3.17-bioc/R/bin/R CMD check --install=check:REDseq.install-out.txt --library=/home/biocbuild/bbs-3.17-bioc/R/site-library --timings REDseq_1.46.0.tar.gz StartedAt: 2023-10-16 00:18:57 -0400 (Mon, 16 Oct 2023) EndedAt: 2023-10-16 00:24:15 -0400 (Mon, 16 Oct 2023) EllapsedTime: 318.0 seconds RetCode: 0 Status: OK CheckDir: REDseq.Rcheck Warnings: 0