Package: REDseq Version: 1.46.0 Command: /home/biocbuild/bbs-3.17-bioc/R/bin/R CMD build --keep-empty-dirs --no-resave-data REDseq StartedAt: 2023-10-15 18:09:19 -0400 (Sun, 15 Oct 2023) EndedAt: 2023-10-15 18:10:20 -0400 (Sun, 15 Oct 2023) EllapsedTime: 60.7 seconds RetCode: 0 Status: OK PackageFile: REDseq_1.46.0.tar.gz PackageFileSize: 155.1 KiB