Package: REDseq Version: 1.46.0 Command: /Library/Frameworks/R.framework/Resources/bin/R CMD INSTALL REDseq StartedAt: 2023-10-15 16:12:27 -0400 (Sun, 15 Oct 2023) EndedAt: 2023-10-15 16:14:39 -0400 (Sun, 15 Oct 2023) EllapsedTime: 132.2 seconds RetCode: 0 Status: OK