Package: REDseq Version: 1.46.0 Command: /Library/Frameworks/R.framework/Resources/bin/R CMD check --install=check:REDseq.install-out.txt --library=/Library/Frameworks/R.framework/Resources/library --no-vignettes --timings REDseq_1.46.0.tar.gz StartedAt: 2023-10-16 05:55:14 -0400 (Mon, 16 Oct 2023) EndedAt: 2023-10-16 06:06:25 -0400 (Mon, 16 Oct 2023) EllapsedTime: 671.3 seconds RetCode: 0 Status: OK CheckDir: REDseq.Rcheck Warnings: 0