Package: RDRToolbox Version: 1.50.0 Command: chmod a+r RDRToolbox -R && F:\biocbuild\bbs-3.17-bioc\R\bin\R.exe CMD build --keep-empty-dirs --no-resave-data RDRToolbox StartedAt: 2023-10-15 21:42:01 -0400 (Sun, 15 Oct 2023) EndedAt: 2023-10-15 21:42:19 -0400 (Sun, 15 Oct 2023) EllapsedTime: 17.8 seconds RetCode: 0 Status: OK PackageFile: RDRToolbox_1.50.0.tar.gz PackageFileSize: 191 KiB