Package: RDRToolbox Version: 1.50.0 Command: /home/biocbuild/bbs-3.17-bioc/R/bin/R CMD INSTALL RDRToolbox StartedAt: 2023-10-15 15:26:15 -0400 (Sun, 15 Oct 2023) EndedAt: 2023-10-15 15:26:18 -0400 (Sun, 15 Oct 2023) EllapsedTime: 3.1 seconds RetCode: 0 Status: OK