Package: RDRToolbox Version: 1.50.0 Command: /Library/Frameworks/R.framework/Resources/bin/R CMD INSTALL RDRToolbox StartedAt: 2023-10-15 15:45:09 -0400 (Sun, 15 Oct 2023) EndedAt: 2023-10-15 15:45:17 -0400 (Sun, 15 Oct 2023) EllapsedTime: 7.9 seconds RetCode: 0 Status: OK