Package: RDRToolbox Version: 1.50.0 Command: rm -rf RDRToolbox.buildbin-libdir && mkdir RDRToolbox.buildbin-libdir && /Users/biocbuild/BBS/utils/build-universal.sh RDRToolbox_1.50.0.tar.gz /Library/Frameworks/R.framework/Resources/bin/R RDRToolbox.buildbin-libdir StartedAt: 2023-10-16 10:01:10 -0400 (Mon, 16 Oct 2023) EndedAt: 2023-10-16 10:01:20 -0400 (Mon, 16 Oct 2023) EllapsedTime: 10.5 seconds RetCode: 0 Status: OK PackageFile: RDRToolbox_1.50.0.tgz PackageFileSize: 187.7 KiB