Package: RCyjs Version: 2.22.0 Command: F:\biocbuild\bbs-3.17-bioc\R\bin\R.exe CMD INSTALL RCyjs StartedAt: 2023-10-15 15:54:53 -0400 (Sun, 15 Oct 2023) EndedAt: 2023-10-15 15:55:17 -0400 (Sun, 15 Oct 2023) EllapsedTime: 24.4 seconds RetCode: 0 Status: OK