Package: RCyjs Version: 2.22.0 Command: /Library/Frameworks/R.framework/Resources/bin/R CMD check --install=check:RCyjs.install-out.txt --library=/Library/Frameworks/R.framework/Resources/library --no-vignettes --timings RCyjs_2.22.0.tar.gz StartedAt: 2023-10-16 05:52:20 -0400 (Mon, 16 Oct 2023) EndedAt: 2023-10-16 05:53:58 -0400 (Mon, 16 Oct 2023) EllapsedTime: 98.9 seconds RetCode: 0 Status: WARNINGS CheckDir: RCyjs.Rcheck Warnings: 1