Package: RCyjs Version: 2.22.0 Command: /Library/Frameworks/R.framework/Resources/bin/R CMD build --keep-empty-dirs --no-resave-data RCyjs StartedAt: 2023-10-15 20:35:01 -0400 (Sun, 15 Oct 2023) EndedAt: 2023-10-15 20:35:23 -0400 (Sun, 15 Oct 2023) EllapsedTime: 22.2 seconds RetCode: 0 Status: OK PackageFile: RCyjs_2.22.0.tar.gz PackageFileSize: 1.084 MiB