Package: RCyjs Version: 2.22.0 Command: rm -rf RCyjs.buildbin-libdir && mkdir RCyjs.buildbin-libdir && /Users/biocbuild/BBS/utils/build-universal.sh RCyjs_2.22.0.tar.gz /Library/Frameworks/R.framework/Resources/bin/R RCyjs.buildbin-libdir StartedAt: 2023-10-16 10:00:54 -0400 (Mon, 16 Oct 2023) EndedAt: 2023-10-16 10:01:20 -0400 (Mon, 16 Oct 2023) EllapsedTime: 26.0 seconds RetCode: 0 Status: OK PackageFile: RCyjs_2.22.0.tgz PackageFileSize: 1022 KiB