Package: RCy3 Version: 2.20.2 Command: F:\biocbuild\bbs-3.17-bioc\R\bin\R.exe CMD check --no-multiarch --install=check:RCy3.install-out.txt --library=F:\biocbuild\bbs-3.17-bioc\R\library --no-vignettes --timings RCy3_2.20.2.tar.gz StartedAt: 2023-10-16 05:45:00 -0400 (Mon, 16 Oct 2023) EndedAt: 2023-10-16 05:46:36 -0400 (Mon, 16 Oct 2023) EllapsedTime: 96.1 seconds RetCode: 0 Status: OK CheckDir: RCy3.Rcheck Warnings: 0