Package: RCy3 Version: 2.20.2 Command: chmod a+r RCy3 -R && F:\biocbuild\bbs-3.17-bioc\R\bin\R.exe CMD build --keep-empty-dirs --no-resave-data RCy3 StartedAt: 2023-10-15 21:41:42 -0400 (Sun, 15 Oct 2023) EndedAt: 2023-10-15 21:43:19 -0400 (Sun, 15 Oct 2023) EllapsedTime: 97.0 seconds RetCode: 0 Status: OK PackageFile: RCy3_2.20.2.tar.gz PackageFileSize: 6.455 MiB