Package: RCy3 Version: 2.20.2 Command: /home/biocbuild/bbs-3.17-bioc/R/bin/R CMD build --keep-empty-dirs --no-resave-data RCy3 StartedAt: 2023-10-15 18:08:21 -0400 (Sun, 15 Oct 2023) EndedAt: 2023-10-15 18:08:50 -0400 (Sun, 15 Oct 2023) EllapsedTime: 29.4 seconds RetCode: 0 Status: OK PackageFile: RCy3_2.20.2.tar.gz PackageFileSize: 6.453 MiB