Package: RCy3 Version: 2.20.2 Command: /Library/Frameworks/R.framework/Resources/bin/R CMD INSTALL RCy3 StartedAt: 2023-10-15 15:56:21 -0400 (Sun, 15 Oct 2023) EndedAt: 2023-10-15 15:57:06 -0400 (Sun, 15 Oct 2023) EllapsedTime: 45.4 seconds RetCode: 0 Status: OK