Package: RCSL Version: 1.8.0 Command: /Library/Frameworks/R.framework/Resources/bin/R CMD check --install=check:RCSL.install-out.txt --library=/Library/Frameworks/R.framework/Resources/library --no-vignettes --timings RCSL_1.8.0.tar.gz StartedAt: 2023-10-16 05:51:57 -0400 (Mon, 16 Oct 2023) EndedAt: 2023-10-16 06:19:44 -0400 (Mon, 16 Oct 2023) EllapsedTime: 1666.4 seconds RetCode: 0 Status: OK CheckDir: RCSL.Rcheck Warnings: 0