Package: RCSL Version: 1.8.0 Command: /Library/Frameworks/R.framework/Resources/bin/R CMD build --keep-empty-dirs --no-resave-data RCSL StartedAt: 2023-10-15 20:34:07 -0400 (Sun, 15 Oct 2023) EndedAt: 2023-10-15 20:35:16 -0400 (Sun, 15 Oct 2023) EllapsedTime: 69.4 seconds RetCode: 0 Status: OK PackageFile: RCSL_1.8.0.tar.gz PackageFileSize: 1.932 MiB