Package: RCASPAR Version: 1.46.0 Command: F:\biocbuild\bbs-3.17-bioc\R\bin\R.exe CMD INSTALL RCASPAR StartedAt: 2023-10-15 15:52:23 -0400 (Sun, 15 Oct 2023) EndedAt: 2023-10-15 15:52:38 -0400 (Sun, 15 Oct 2023) EllapsedTime: 15.4 seconds RetCode: 0 Status: OK