Package: RCASPAR Version: 1.46.0 Command: F:\biocbuild\bbs-3.17-bioc\R\bin\R.exe CMD check --no-multiarch --install=check:RCASPAR.install-out.txt --library=F:\biocbuild\bbs-3.17-bioc\R\library --no-vignettes --timings RCASPAR_1.46.0.tar.gz StartedAt: 2023-10-16 05:44:23 -0400 (Mon, 16 Oct 2023) EndedAt: 2023-10-16 05:44:50 -0400 (Mon, 16 Oct 2023) EllapsedTime: 26.6 seconds RetCode: 0 Status: OK CheckDir: RCASPAR.Rcheck Warnings: 0