Package: RCASPAR Version: 1.46.0 Command: chmod a+r RCASPAR -R && F:\biocbuild\bbs-3.17-bioc\R\bin\R.exe CMD build --keep-empty-dirs --no-resave-data RCASPAR StartedAt: 2023-10-15 21:40:03 -0400 (Sun, 15 Oct 2023) EndedAt: 2023-10-15 21:40:13 -0400 (Sun, 15 Oct 2023) EllapsedTime: 10.0 seconds RetCode: 0 Status: OK PackageFile: RCASPAR_1.46.0.tar.gz PackageFileSize: 206.7 KiB