Package: RCASPAR Version: 1.46.0 Command: rm -rf RCASPAR.buildbin-libdir && mkdir RCASPAR.buildbin-libdir && F:\biocbuild\bbs-3.17-bioc\R\bin\R.exe CMD INSTALL --build --library=RCASPAR.buildbin-libdir RCASPAR_1.46.0.tar.gz StartedAt: 2023-10-16 09:20:42 -0400 (Mon, 16 Oct 2023) EndedAt: 2023-10-16 09:20:49 -0400 (Mon, 16 Oct 2023) EllapsedTime: 7.0 seconds RetCode: 0 Status: OK PackageFile: RCASPAR_1.46.0.zip PackageFileSize: 278.4 KiB