Package: RCASPAR Version: 1.46.0 Command: /home/biocbuild/bbs-3.17-bioc/R/bin/R CMD INSTALL RCASPAR StartedAt: 2023-10-15 15:09:51 -0400 (Sun, 15 Oct 2023) EndedAt: 2023-10-15 15:10:04 -0400 (Sun, 15 Oct 2023) EllapsedTime: 12.8 seconds RetCode: 0 Status: OK