Package: RCASPAR Version: 1.46.0 Command: /home/biocbuild/bbs-3.17-bioc/R/bin/R CMD build --keep-empty-dirs --no-resave-data RCASPAR StartedAt: 2023-10-15 18:07:16 -0400 (Sun, 15 Oct 2023) EndedAt: 2023-10-15 18:07:22 -0400 (Sun, 15 Oct 2023) EllapsedTime: 5.3 seconds RetCode: 0 Status: OK PackageFile: RCASPAR_1.46.0.tar.gz PackageFileSize: 204.4 KiB