Package: RCASPAR Version: 1.46.0 Command: rm -rf RCASPAR.buildbin-libdir && mkdir RCASPAR.buildbin-libdir && /Users/biocbuild/BBS/utils/build-universal.sh RCASPAR_1.46.0.tar.gz /Library/Frameworks/R.framework/Resources/bin/R RCASPAR.buildbin-libdir StartedAt: 2023-10-16 10:00:36 -0400 (Mon, 16 Oct 2023) EndedAt: 2023-10-16 10:00:46 -0400 (Mon, 16 Oct 2023) EllapsedTime: 9.6 seconds RetCode: 0 Status: OK PackageFile: RCASPAR_1.46.0.tgz PackageFileSize: 373.4 KiB