Package: RBioinf Version: 1.60.0 Command: F:\biocbuild\bbs-3.17-bioc\R\bin\R.exe CMD INSTALL RBioinf StartedAt: 2023-10-15 15:51:07 -0400 (Sun, 15 Oct 2023) EndedAt: 2023-10-15 15:51:16 -0400 (Sun, 15 Oct 2023) EllapsedTime: 8.2 seconds RetCode: 0 Status: OK