Package: RBioinf Version: 1.60.0 Command: chmod a+r RBioinf -R && F:\biocbuild\bbs-3.17-bioc\R\bin\R.exe CMD build --keep-empty-dirs --no-resave-data RBioinf StartedAt: 2023-10-15 21:39:26 -0400 (Sun, 15 Oct 2023) EndedAt: 2023-10-15 21:39:44 -0400 (Sun, 15 Oct 2023) EllapsedTime: 18.0 seconds RetCode: 0 Status: OK PackageFile: RBioinf_1.60.0.tar.gz PackageFileSize: 3.436 MiB