Package: RBioinf Version: 1.60.0 Command: rm -rf RBioinf.buildbin-libdir && mkdir RBioinf.buildbin-libdir && F:\biocbuild\bbs-3.17-bioc\R\bin\R.exe CMD INSTALL --build --library=RBioinf.buildbin-libdir RBioinf_1.60.0.tar.gz StartedAt: 2023-10-16 09:20:26 -0400 (Mon, 16 Oct 2023) EndedAt: 2023-10-16 09:20:40 -0400 (Mon, 16 Oct 2023) EllapsedTime: 14.1 seconds RetCode: 0 Status: OK PackageFile: RBioinf_1.60.0.zip PackageFileSize: 3.469 MiB