Package: RBioinf Version: 1.60.0 Command: /home/biocbuild/bbs-3.17-bioc/R/bin/R CMD build --keep-empty-dirs --no-resave-data RBioinf StartedAt: 2023-10-15 18:07:04 -0400 (Sun, 15 Oct 2023) EndedAt: 2023-10-15 18:07:13 -0400 (Sun, 15 Oct 2023) EllapsedTime: 8.8 seconds RetCode: 0 Status: OK PackageFile: RBioinf_1.60.0.tar.gz PackageFileSize: 3.434 MiB